BEGIN:VCALENDAR
VERSION:2.0
PRODID:-//wp-events-plugin.com//7.2.3.1//EN
TZID:Europe/Berlin
X-WR-TIMEZONE:Europe/Berlin
BEGIN:VEVENT
UID:52@redsailing.de
DTSTART;TZID=Europe/Berlin;VALUE=DATE:20260907
DTEND;TZID=Europe/Berlin;VALUE=DATE:20260910
DTSTAMP:20260320T122458Z
URL:https://redsailing.de/toerns/schnuppersegeln-bodensee/
SUMMARY:Schnuppersegeln Bodensee
DESCRIPTION:Komm und erlebe ein einzigartiges Schnuppersegeln Bodensee. Gen
 ieße das einfache und sichere Segeln auf dem kleinsten Meer der Welt. Wir
  sind unterwegs auf einer tollen und schnellen Segelyacht. Erlebe die Kraf
 t des Windes und lerne die Grundlagen des Segelns. Dieser Segeltörn ist f
 ür alle\, die erstmal schauen wollen\, ob das Segeln etwas für sie ist u
 nd die dann vielleicht später einen Segelschein oder mal einen größeren
  Törn auf dem Meer machen wollen.\n\n \nInfos zu Schnuppersegeln Bodensee
  vom 07.-09.09.2026\nDer Bodensee\, wunderschön gelegen direkt vor den Al
 pen\, bietet seinen Besuchern alles was man sich nur wünschen kann. Es is
 t ein optimales Revier\, um Dich in die Welt des Segelns mitzunehmen\, wei
 l er als Binnengewässer sehr geschützt und überschaubar ist und trotzde
 m viele Möglichkeiten durch die drei anliegenden Länder Deutschland\, Ö
 sterreich\, Schweiz eröffnet. Bodensee - das schwäbische Meer! Es gibt w
 underschöne kleine Häfen wie Lindau in Deutschland oder Horn in der Schw
 eiz. Auch Bregenz und viele weitere Städte und Buchten sind einen Besuch 
 wert.\n\nWir starten im wunderschönen Konstanz und machen von dort aus ei
 ne schöne Tour. Wenn es klappt\, dann einmal rund um den Bodensee. Wir le
 rnen alle Grundlagen des Segelns kennen\, trainieren alle wichtigen Segelm
 anöver\, machen auch mal einen Ankerstopp zum Baden oder übernachten und
  genießen einfach die Freiheit auf dem Wasser und den schönen Blick auf 
 die Alpen und die Umgebung. Alle Teilnehmer sind eingeladen mit anzupacken
  und Erfahrungen zu sammeln.\n\n \nDas macht das Schnuppersegeln Bodensee 
 von RED SAILING aus:\n\n 	viel Spaß und gute Laune\n 	viel lernen\, üben
 \, ausprobieren\n 	kurze Segeldistanzen\n 	viel Segeln\n 	viel Genießen\n
  	keine Seekrankheit\n 	Sicherheit hat Priorität\n\n \nTreffpunkt am 07.0
 9.2026\nWir treffen uns um 10 Uhr im Hafen Konstanz -&gt\; Link\nFolgende 
 Möglichkeiten gibt es für die Anreise\n\n 	mit dem eigenen PKW (es gibt 
 kostenfreie Parkplätze direkt bei der Marina)\n 	mit dem Zug und/oder Fli
 xbus\n\n \nDeine Yacht beim Schnuppersegeln Bodensee\nWir sind unterwegs m
 it einer Bavaria 37 Yacht. Die Yacht ist optimal für gemütliches und auc
 h für sportliches Segeln. Zudem hat sie alles\, was eine Yacht braucht: E
 s gibt 3 Kabinen mit jeweils 2 Schlafplätzen an Bord – insgesamt haben 
 also 5 Gäste und der Skipper Platz. Die Kabinen-Aufteilung wird gemeinsam
  besprochen und entschieden. Bisher hat das immer super geklappt und jeder
  findet eine flauschige Koje. Zudem verfügt die Yacht über eine Toilette
  und eine Dusche. Zusätzlich gibt es eine Heckdusche\, um sich nach dem B
 aden abzuduschen. Das Abwasser der Toiletten\, Duschen\, Spülbecken wird 
 in Tanks gesammelt und ordnungsgemäß wieder entleert. Im Folgenden ist e
 ine Auswahl des Yachtequipments aufgeführt:\n\n\n 	Musikanlage\n 	elektri
 sche Ankerwinsch\n 	Autopilot\n 	Bugstrahlruder\n 	Dingi\n 	uvm..\n\n     
 \n\n&nbsp\;\nThema Kosten\nZahlungsmodalität: 33% des Gesamtpreises sind 
 sofort\, 67 % sind 3 Monate vor Reisebeginn zu bezahlen.\nEs gibt keine ve
 rsteckten Kosten bei RED SAILING. Wir mögen nicht\, wenn andere das mache
 n und deshalb machen wir das auch nicht! In den unten genannten Preisen vo
 n RED SAILING ist enthalten:\n\n\n 	Deine Koje (Schlafplatz) auf der Yacht
 \n 	Das Equipment der Yacht\n 	Der Skipper\n 	Alle Yacht- und Skipperversi
 cherungen\n 	Die Endreinigung der Yacht und das Ein- und Aus-checken\n\nKo
 sten\, die noch hinzukommen sind:\n\n\n 	die Bordkasse mit ca. 80-120 € 
 pro Person (Kosten für die Einkäufe (Essen\, Trinken)\, die Restaurantbe
 suche\, Hafengebühren\, Treibstoff). Nach alter See-Tradition wird der Sk
 ipper von der Gruppe mitverpflegt und von der Bordkasse freigehalten.\n 	D
 eine An- und Abreise\n 	Kaution für die Yacht: 100 € pro Person (bekomm
 st Du bei Schadensfreiheit am Ende des Törns wieder zurück)\n\n&nbsp\;\n
 \nDas Schnuppersegeln am Bodensee ist Teil unserer Event-Törns. Weitere I
 nfos dazu findest Du hier.\n\n&nbsp\;\n\nDer Skipper für diesen Segeltör
 n ist:\nHubert Roth (bei Fragen: +4915779321888\, hubert@redsailing.de)\n\
 n&nbsp\;
ATTACH;FMTTYPE=image/jpeg:https://redsailing.de/wp-content/uploads/2026/03
 /Schnuppersegeln-Bodensee-1000x600-1.jpg
CATEGORIES:Bodensee,Event-Segeln
END:VEVENT
BEGIN:VTIMEZONE
TZID:Europe/Berlin
X-LIC-LOCATION:Europe/Berlin
BEGIN:DAYLIGHT
DTSTART:20260329T030000
TZOFFSETFROM:+0100
TZOFFSETTO:+0200
TZNAME:CEST
END:DAYLIGHT
END:VTIMEZONE
END:VCALENDAR