BEGIN:VCALENDAR
VERSION:2.0
PRODID:-//wp-events-plugin.com//7.2.3.1//EN
TZID:Europe/Berlin
X-WR-TIMEZONE:Europe/Berlin
BEGIN:VEVENT
UID:44@redsailing.de
DTSTART;TZID=Europe/Berlin;VALUE=DATE:20250503
DTEND;TZID=Europe/Berlin;VALUE=DATE:20250511
DTSTAMP:20241118T142629Z
URL:https://redsailing.de/toerns/skippertraining-nach-venedig-start-slowen
 ien/
SUMMARY:Skippertraining nach Venedig (Start Slowenien)
DESCRIPTION:Die Gegend der slowenischen und italienischen Mittelmeerküste 
 ist ein optimales Revier\, um ein professionelles Skippertraining nach Ven
 edig zu machen. Wir werden die Woche intensiv nutzen\, um alle wichtigen H
 erausforderungen eines Skippers zu üben und zu trainieren.\n\n \nDas mac
 ht das Skippertraining nach Venedig von RED SAILING aus:\n\n 	Yachttechnik
 \, Segelmanöver\, Crew-Management uvm.\n 	wenn möglich dann Nachtfahrt\n
  	intensives Segeln\, intensives Hafenmanövertraining\n 	mit dem Segelboo
 t nach Venedig segeln\n 	keine Seekrankheit\n 	Sicherheit hat Priorität\n
 \n \nTreffpunkt\nWir treffen uns um 14 Uhr in der Marina Izola (Adresse: D
 antejevu ulica 22\, 6310 Izola\, Slowenien).\nDen genauen Ort (vermutlich 
 ein Café nahe der Marina) bekommst Du ein paar Tage vorher per WhatsApp z
 ugesendet.\n\nMöglichkeiten für die Anreise nach Izola:\n\n 	mit dem eig
 enen PKW: kostenloser öffentlicher Parkplatz oder Parkplatz auf dem rund 
 um die Uhr bewachten Marinaparkplatz für 15€ pro Tag\n 	mit dem Zug und
 /oder Flixbus\n 	mit dem Flugzeug: Der nächstgelegene Flughafen ist Porto
 roz (POW).\n\n \nThema Kosten\nZahlungsmodalität: 33% des Gesamtpreises s
 ind sofort\, 67 % sind 3 Monate vor Reisebeginn zu bezahlen.\nEs gibt kein
 e versteckten Kosten bei RED SAILING. In den Preisen von RED SAILING ist e
 nthalten:\n\n\n 	deine Koje (Schlafplatz) auf der Yacht\n 	das Equipment d
 er Yacht\n 	der Skipper\n 	der komplette Service-Pack (Endreinigung der Ya
 cht\, Ein- und Aus-checken\, Hafengebühren für die Nächte\, die wir im 
 Starthafen verbringen\, etc.) -&gt\; das kommt bei vielen Anbietern extra 
 hinzu (ca. 300-500€!). Bei RED SAILING ist der Service-Pack inklusive.\n
 \nKosten\, die noch hinzukommen sind:\n\n\n 	die Bordkasse mit ca. 200-250
  € pro Person (Kosten für die Einkäufe (Essen\, Trinken)\, die Restaur
 antbesuche\, Hafengebühren\, Treibstoff\, etc.). Nach alter See-Tradition
  wird der Skipper von der Gruppe mitverpflegt und von der Bordkasse freige
 halten.\n 	Deine An- und Abreise\n 	Kaution für die Yacht: 100 € pro Pe
 rson (bekommst Du bei Schadensfreiheit am Ende des Törns wieder zurück)\
 n\n&nbsp\;\n\nGenerelle Infos zum Skippertraining bei RED SAILING findest 
 Du hier.\n\n&nbsp\;\nDer Skipper und Segellehrer für diesen Segeltörn is
 t:\nHubert Roth (bei Fragen: +4915779321888\, hubert@redsailing.de)\n&nbsp
 \;
ATTACH;FMTTYPE=image/jpeg:https://redsailing.de/wp-content/uploads/2024/10
 /Skippertraining-1000x600-2.jpg
CATEGORIES:Ausbildungs-Törns,Slowenien
END:VEVENT
BEGIN:VTIMEZONE
TZID:Europe/Berlin
X-LIC-LOCATION:Europe/Berlin
BEGIN:DAYLIGHT
DTSTART:20250330T030000
TZOFFSETFROM:+0100
TZOFFSETTO:+0200
TZNAME:CEST
END:DAYLIGHT
END:VTIMEZONE
END:VCALENDAR