BEGIN:VCALENDAR
VERSION:2.0
PRODID:-//wp-events-plugin.com//7.2.3.1//EN
TZID:Europe/Berlin
X-WR-TIMEZONE:Europe/Berlin
BEGIN:VEVENT
UID:3@redsailing.de
DTSTART;TZID=Europe/Berlin;VALUE=DATE:20240810
DTEND;TZID=Europe/Berlin;VALUE=DATE:20240818
DTSTAMP:20241016T080554Z
URL:https://redsailing.de/toerns/sks-pruefungstoern-ostsee-2/
SUMMARY:SKS Prüfungstörn mit Erfolgsgarantie Ostsee
DESCRIPTION:Die geschützte Flensburger Förde ist ein optimales Revier\, u
 m alle praktischen Manöver für einen SKS Prüfungstörn zu trainieren. V
 on hier ist es auch nicht weit in die wunderbare Dänische Südsee. Egal o
 b Du am Ende der Woche die SKS-Prüfung oder die SBF-See-Prüfung machst o
 der einfach nur Deine seglerischen Fähigkeiten trainieren willst - hier b
 ist Du genau richtig. Auch für Leute\, die bereits einen Segelschein habe
 n und Ihre Fähigkeiten als Skipperin oder Skipper verbessern wollen\, ist
  dieser Törn optimal.\n\n \nDas macht den SKS Prüfungstörn mit Erfolgs
 garantie von RED SAILING aus:\n\n 	Erfolgsgarantie für die SKS-Prüfung\n
  	Erfolgsgarantie für die SBF-See-Prüfung\n 	viel lernen und üben\n 	vi
 el Spass und gute Laune\n 	keine Seekrankheit\n 	Sicherheit hat Priorität
 \n\n \nTreffpunkt am 10.08.2024\nWir treffen uns um 14 Uhr in der Marina F
 lensburg (Adresse: Brauereiweg 16\, 24939 Flensburg).\nDen genauen Ort (ve
 rmutlich ein Café nahe der Marina) bekommst Du ein paar Tage vorher per W
 hatsApp zugesendet.\n\nAnreise nach Flensburg - Möglichkeiten:\n\n 	mit d
 em eigenen PKW (kostenloser öffentlicher Parkplatz oder Parkplatz in Boot
 shalle für 5€ pro Tag)\n 	mit dem Zug und/oder Flixbus\n 	mit dem Flugz
 eug (Der nächstgelegene Flughafen ist Sonderborg (SGD) in Dänemark oder 
 Hamburg (HAM).)\n\n \nEure Segelacht \n\n 	Bavaria Cruiser 46\, Baujahr 2
 020\n 	Länge: 14\,24 m\, Breite: 4\,35 m\, Tiefgang: 1\,73 m\n 	Motor: ca
 . 55 PS\n 	4 Kabinen mit jeweils 2 Schlafplätzen an Bord\n 	3 Toiletten\,
  3 Duschen\, 1 Heckdusche\n\n\nThema Kosten\nZahlungsmodalität: 33% des G
 esamtpreises sind sofort\, 67 % sind 3 Monate vor Reisebeginn zu bezahlen.
 \nEs gibt keine versteckten Kosten bei RED SAILING. Wir mögen nicht\, wen
 n andere das machen und deshalb machen wir das auch nicht! In den Preisen 
 von RED SAILING ist enthalten:\n\n\n 	Deine Koje (Schlafplatz) auf der Yac
 ht\n 	Das Equipment der Yacht\n 	Der Skipper\n 	Alle Yacht- und Skipperver
 sicherungen\n 	Die Endreinigung der Yacht und das Ein- und Aus-checken\n 	
 Alle Hafengebühren für die Nächte\, die wir im Starthafen verbringen\n\
 nKosten\, die noch hinzukommen sind:\n\n\n 	die Bordkasse mit ca. 100-200 
 € pro Person (Kosten für die Einkäufe (Essen\, Trinken)\, die Restaura
 ntbesuche\, Hafengebühren\, Treibstoff). Nach alter See-Tradition wird di
 e Skipperin bzw. der Skipper von der Gruppe mitverpflegt und wird von der 
 Bordkasse freigehalten.\n 	Deine An- und Abreise\n 	Die Prüfungsgebühren
 \n 	Kaution für die Yacht: 100 € pro Person (bekommst Du bei Schadensfr
 eiheit am Ende des Törns wieder zurück)\n\n&nbsp\;\nGenerelle Infos zum 
 SKS Prüfungstörn bei RED SAILING findest Du hier.\n&nbsp\;\nDer Skipper
  und Segellehrer für diesen Segeltörn ist:\nHubert Roth (bei Fragen: +49
 15779321888\, hubert@redsailing.de)\n&nbsp\;
ATTACH;FMTTYPE=image/jpeg:https://redsailing.de/wp-content/uploads/2023/11
 /Ausbildungs-Toern-1000x600-RS.jpg
CATEGORIES:Ausbildungs-Törns,Ostsee
END:VEVENT
BEGIN:VTIMEZONE
TZID:Europe/Berlin
X-LIC-LOCATION:Europe/Berlin
BEGIN:DAYLIGHT
DTSTART:20240331T030000
TZOFFSETFROM:+0100
TZOFFSETTO:+0200
TZNAME:CEST
END:DAYLIGHT
END:VTIMEZONE
END:VCALENDAR